BEGIN:VCALENDAR
VERSION:2.0
PRODID:-//Tukios.com/
BEGIN:VEVENT
UID:4c2d5346-9134-4b5e-9513-c9dfa3ea2c8f@www.paulcrogers.com
DTSTAMP:20260421T084409Z
DTSTART:20260425T160000Z
DTEND:20260425T180000Z
SUMMARY:Visitation
DESCRIPTION:
URL:https://www.paulcrogers.com/obituaries/loretta-cazmay
LOCATION:Paul C. Rogers Funeral home 36 West Main Street  Merrimac MA 
	01860
GEO:42.8313762;-71.0050484
END:VEVENT
END:VCALENDAR