BEGIN:VCALENDAR
VERSION:2.0
PRODID:-//Tukios.com/
BEGIN:VEVENT
UID:25967293-a7c3-4ad1-a317-e391655bfbe8@www.paulcrogers.com
DTSTAMP:20260421T085545Z
DTSTART:20260425T180000Z
DTEND:20260425T190000Z
SUMMARY:Prayer Service
DESCRIPTION:
URL:https://www.paulcrogers.com/obituaries/loretta-cazmay
LOCATION:Paul C. Rogers Funeral home 36 West Main Street  Merrimac MA 
	01860
GEO:42.8313762;-71.0050484
END:VEVENT
END:VCALENDAR