BEGIN:VCALENDAR
VERSION:2.0
PRODID:-//Tukios.com/
BEGIN:VEVENT
UID:6d12773c-d797-4357-9d01-39ce6e5d2a42@www.paulcrogers.com
DTSTAMP:20260420T040716Z
DTSTART:20260426T200000Z
DTEND:20260426T230000Z
SUMMARY:Visitation
DESCRIPTION:
URL:https://www.paulcrogers.com/obituaries/paul-watson
LOCATION:Paul C. Rogers Family Funeral Home 2 Hillside Avenue  Amesbury 
	MA 01913
GEO:42.8506996;-70.9370941
END:VEVENT
END:VCALENDAR