BEGIN:VCALENDAR
VERSION:2.0
PRODID:-//Tukios.com/
BEGIN:VEVENT
UID:5a2794ad-4e52-41b4-a95c-4cab53c70d43@www.paulcrogers.com
DTSTAMP:20260420T040604Z
DTSTART:20260427T143000Z
DTEND:20260427T153000Z
SUMMARY:Funeral Service
DESCRIPTION:
URL:https://www.paulcrogers.com/obituaries/paul-watson
LOCATION:Paul C. Rogers Family Funeral Home 2 Hillside Avenue  Amesbury 
	MA 01913
GEO:42.8506996;-70.9370941
END:VEVENT
END:VCALENDAR